BEGIN:VCALENDAR
VERSION:2.0
PRODID:-//Festival Tribulossi - ECPv6.10.1.1//NONSGML v1.0//EN
CALSCALE:GREGORIAN
METHOD:PUBLISH
X-WR-CALNAME:Festival Tribulossi
X-ORIGINAL-URL:https://tribulossi.cat/es/
X-WR-CALDESC:Eventos para Festival Tribulossi
REFRESH-INTERVAL;VALUE=DURATION:PT1H
X-Robots-Tag:noindex
X-PUBLISHED-TTL:PT1H
BEGIN:VTIMEZONE
TZID:Europe/Madrid
BEGIN:DAYLIGHT
TZOFFSETFROM:+0100
TZOFFSETTO:+0200
TZNAME:CEST
DTSTART:20240331T010000
END:DAYLIGHT
BEGIN:STANDARD
TZOFFSETFROM:+0200
TZOFFSETTO:+0100
TZNAME:CET
DTSTART:20241027T010000
END:STANDARD
END:VTIMEZONE
BEGIN:VEVENT
DTSTART;TZID=Europe/Madrid:20240524T180000
DTEND;TZID=Europe/Madrid:20240524T190000
DTSTAMP:20260420T063951
CREATED:20240425T105719Z
LAST-MODIFIED:20240425T105719Z
UID:1091-1716573600-1716577200@tribulossi.cat
SUMMARY:Memorias Líquidas. Voces de las lavanderas.
DESCRIPTION:Un espectáculo cultural con el agua\, la colada\, los lavaderos y las lavanderas como protagonistas. Silenciadas por el viento del olvido\, sus vivencias toman la palabra a través de lecturas en voz alta\, las canciones y la participación directa del público. Abierto a todo el mundo.
URL:https://tribulossi.cat/es/activitat/memorias-liquidas-voces-de-las-lavanderas/
LOCATION:Sala de Plens\, Pl. de la Creu\, 1\, Tremp\, Espanya
CATEGORIES:Edición 2024
ATTACH;FMTTYPE=image/jpeg:https://tribulossi.cat/wp-content/uploads/2024/04/safareig-memories.jpeg
END:VEVENT
BEGIN:VEVENT
DTSTART;TZID=Europe/Madrid:20240524T200000
DTEND;TZID=Europe/Madrid:20240524T200000
DTSTAMP:20260420T063951
CREATED:20240425T110051Z
LAST-MODIFIED:20240425T110051Z
UID:1090-1716580800-1716580800@tribulossi.cat
SUMMARY:Concierto con Flamengrass
DESCRIPTION:Fusión de flamenco\, bluegrass y músicas de raíz a partir de poemas de Lorca y otros. Un banjo\, un violio y una guitarra para crear un clima mágico y festivo a la vez.
URL:https://tribulossi.cat/es/activitat/concierto-con-flamengrass/
LOCATION:Antigualla Classic Bar\, Pg. Pompeu Fabra\, Tremp\, 25620\, Espanya
CATEGORIES:Edición 2024
ATTACH;FMTTYPE=image/jpeg:https://tribulossi.cat/wp-content/uploads/2024/04/flamengrass.jpeg
END:VEVENT
END:VCALENDAR