BEGIN:VCALENDAR
VERSION:2.0
PRODID:-//Festival Tribulossi - ECPv6.10.1.1//NONSGML v1.0//EN
CALSCALE:GREGORIAN
METHOD:PUBLISH
X-WR-CALNAME:Festival Tribulossi
X-ORIGINAL-URL:https://tribulossi.cat/es/
X-WR-CALDESC:Eventos para Festival Tribulossi
REFRESH-INTERVAL;VALUE=DURATION:PT1H
X-Robots-Tag:noindex
X-PUBLISHED-TTL:PT1H
BEGIN:VTIMEZONE
TZID:Europe/Madrid
BEGIN:DAYLIGHT
TZOFFSETFROM:+0100
TZOFFSETTO:+0200
TZNAME:CEST
DTSTART:20240331T010000
END:DAYLIGHT
BEGIN:STANDARD
TZOFFSETFROM:+0200
TZOFFSETTO:+0100
TZNAME:CET
DTSTART:20241027T010000
END:STANDARD
END:VTIMEZONE
BEGIN:VEVENT
DTSTART;TZID=Europe/Madrid:20240525T120000
DTEND;TZID=Europe/Madrid:20240525T123000
DTSTAMP:20260420T063950
CREATED:20240425T110439Z
LAST-MODIFIED:20240425T110439Z
UID:1089-1716638400-1716640200@tribulossi.cat
SUMMARY:Arte urbano: inauguración del mural artístico de Peter Allan Hull
DESCRIPTION:Presentación del mural artístico creado por Peter Alan Hull a partir del poema Mujeres Oscuras del poeta Xavier Macià. Con la presencia del autor del mural y la lectura del poema por parte de Macià. En el lavadero de Tremp.
URL:https://tribulossi.cat/es/activitat/arte-urbano-inauguracion-del-mural-artistico-de-peter-allan-hull/
LOCATION:Plaça Capdevila\, Plaça Capdevila\, Tremp\, Lleida\, 25620\, Espanya
CATEGORIES:Edición 2024
ATTACH;FMTTYPE=image/webp:https://tribulossi.cat/wp-content/uploads/2024/04/PETERALLAN.webp
END:VEVENT
BEGIN:VEVENT
DTSTART;TZID=Europe/Madrid:20240525T123000
DTEND;TZID=Europe/Madrid:20240525T140000
DTSTAMP:20260420T063950
CREATED:20240322T131652Z
LAST-MODIFIED:20240322T131652Z
UID:1092-1716640200-1716645600@tribulossi.cat
SUMMARY:Espectáculo de circo poético NüShu de la compañía Capicua
DESCRIPTION:Una fàbrica antiga de texans\, una màquina de cosir\, una escala\, roba texana\, un pal\, bobines de fil\, una corda i cinc dones…. Acròbates que cusen\, ballen\, riuen i s'enfilen. NüShu és un llenguatge a través del cos\, del silenci\, del caos\, un llenguatge entre mares\, àvies\, filles i companyes.\n\nUn espectacle sensible\, humà i divertit.
URL:https://tribulossi.cat/es/activitat/espectaculo-de-circo-poetico-nushu-de-la-compania-capicua/
LOCATION:Plaça Capdevila\, Plaça Capdevila\, Tremp\, Lleida\, 25620\, Espanya
CATEGORIES:Edición 2024
ATTACH;FMTTYPE=image/jpeg:https://tribulossi.cat/wp-content/uploads/2024/03/nushu.jpg
END:VEVENT
BEGIN:VEVENT
DTSTART;TZID=Europe/Madrid:20240525T190000
DTEND;TZID=Europe/Madrid:20240525T210000
DTSTAMP:20260420T063950
CREATED:20240322T130828Z
LAST-MODIFIED:20240322T130828Z
UID:1088-1716663600-1716670800@tribulossi.cat
SUMMARY:Homenaje a Benet Rossell
DESCRIPTION:Acto de homenaje al poeta y artista Benet Rossell con lectura de poemas\, coloquio sobre su vida y obra y presentación de la recopilación de poemas e ilustraciones inéditas del autor. El acto contará con la presencia de: \n\nCristina Giorgi\, viuda de Benet Rossell y administradora de su legado\nAntoni Pinet\, cineasta\nAntoni Llevot\, artista plástico\nFerran Aixalà\, actor y músico\nJosep Pedrals\, poeta\nCarles Maria Sanuy\, poeta\nJosep Rossell\, director artístico de cine\nMarta Farré\, librera
URL:https://tribulossi.cat/es/activitat/homenaje-a-benet-rossell/
LOCATION:Espai Cultural La Lira\, Rambla del Dr. Pearson\, 22\, Tremp\, Lleida\, 25620\, Espanya
CATEGORIES:Edición 2024
ATTACH;FMTTYPE=image/jpeg:https://tribulossi.cat/wp-content/uploads/2024/03/Benet_Rossell_def.jpg
ORGANIZER;CN="Ajuntament de Tremp":MAILTO:culturaifestes@tremp.cat
END:VEVENT
END:VCALENDAR