BEGIN:VCALENDAR
VERSION:2.0
PRODID:-//Festival Tribulossi - ECPv6.10.1.1//NONSGML v1.0//EN
CALSCALE:GREGORIAN
METHOD:PUBLISH
X-WR-CALNAME:Festival Tribulossi
X-ORIGINAL-URL:https://tribulossi.cat/es/
X-WR-CALDESC:Eventos para Festival Tribulossi
REFRESH-INTERVAL;VALUE=DURATION:PT1H
X-Robots-Tag:noindex
X-PUBLISHED-TTL:PT1H
BEGIN:VTIMEZONE
TZID:Europe/Madrid
BEGIN:DAYLIGHT
TZOFFSETFROM:+0100
TZOFFSETTO:+0200
TZNAME:CEST
DTSTART:20240331T010000
END:DAYLIGHT
BEGIN:STANDARD
TZOFFSETFROM:+0200
TZOFFSETTO:+0100
TZNAME:CET
DTSTART:20241027T010000
END:STANDARD
END:VTIMEZONE
BEGIN:VEVENT
DTSTART;TZID=Europe/Madrid:20240526T120000
DTEND;TZID=Europe/Madrid:20240526T133000
DTSTAMP:20260420T063950
CREATED:20240425T111051Z
LAST-MODIFIED:20240425T111051Z
UID:1087-1716724800-1716730200@tribulossi.cat
SUMMARY:Poesía\, música y vermut
DESCRIPTION:Concierto\, recital de poemas y vermut con el conjunto Rumbesia que presenta Del Negre al Blanc a partir de poemas de autores catalanes como Apel·les Mestres\, Clementina Arderiu… Degustación de productos En Tu Gusto\, alimentos del Pallars. Lugar: Plaça del Forn.
URL:https://tribulossi.cat/es/activitat/poesia-musica-y-vermut/
LOCATION:plaça del Forn\, Plaça del Forn\, Tremp\, Lleida\, 25620\, Espanya
CATEGORIES:Edición 2024
ATTACH;FMTTYPE=image/jpeg:https://tribulossi.cat/wp-content/uploads/2024/04/rumbesiadef.jpg
END:VEVENT
END:VCALENDAR