BEGIN:VCALENDAR
VERSION:2.0
PRODID:-//Festival Tribulossi - ECPv6.10.1.1//NONSGML v1.0//EN
CALSCALE:GREGORIAN
METHOD:PUBLISH
X-ORIGINAL-URL:https://tribulossi.cat/es/
X-WR-CALDESC:Eventos para Festival Tribulossi
REFRESH-INTERVAL;VALUE=DURATION:PT1H
X-Robots-Tag:noindex
X-PUBLISHED-TTL:PT1H
BEGIN:VTIMEZONE
TZID:Europe/Madrid
BEGIN:DAYLIGHT
TZOFFSETFROM:+0100
TZOFFSETTO:+0200
TZNAME:CEST
DTSTART:20240331T010000
END:DAYLIGHT
BEGIN:STANDARD
TZOFFSETFROM:+0200
TZOFFSETTO:+0100
TZNAME:CET
DTSTART:20241027T010000
END:STANDARD
END:VTIMEZONE
BEGIN:VEVENT
DTSTART;VALUE=DATE:20240321
DTEND;VALUE=DATE:20240322
DTSTAMP:20260420T023243
CREATED:20231218T051954Z
LAST-MODIFIED:20231218T051954Z
UID:770-1710979200-1711065599@tribulossi.cat
SUMMARY:Balla'm un Llibre
DESCRIPTION:El Tribulossi 2024 empezará el jueves 21 de marzo de 2024 con motivo del Día Mundial de la Poesía\, en la biblioteca con un espectáculo Balla’m un Llibre\, propuestas que combinan danza contemporánea y literatura… Estad atentos a las noticias porque pronto haremos público el nombre del poeta o poeta homenajeado en la 2ª edición… ¿quién será?
URL:https://tribulossi.cat/es/activitat/ballam-un-llibre/
CATEGORIES:Edición 2024,Espectáculos
ATTACH;FMTTYPE=image/jpeg:https://tribulossi.cat/wp-content/uploads/2023/12/ballam.jpg
END:VEVENT
END:VCALENDAR