BEGIN:VCALENDAR
VERSION:2.0
PRODID:-//Festival Tribulossi - ECPv6.10.1.1//NONSGML v1.0//EN
CALSCALE:GREGORIAN
METHOD:PUBLISH
X-ORIGINAL-URL:https://tribulossi.cat
X-WR-CALDESC:Esdeveniments per Festival Tribulossi
REFRESH-INTERVAL;VALUE=DURATION:PT1H
X-Robots-Tag:noindex
X-PUBLISHED-TTL:PT1H
BEGIN:VTIMEZONE
TZID:Europe/Madrid
BEGIN:DAYLIGHT
TZOFFSETFROM:+0100
TZOFFSETTO:+0200
TZNAME:CEST
DTSTART:20240331T010000
END:DAYLIGHT
BEGIN:STANDARD
TZOFFSETFROM:+0200
TZOFFSETTO:+0100
TZNAME:CET
DTSTART:20241027T010000
END:STANDARD
END:VTIMEZONE
BEGIN:VEVENT
DTSTART;TZID=Europe/Madrid:20240524T180000
DTEND;TZID=Europe/Madrid:20240524T190000
DTSTAMP:20260419T194922
CREATED:20240425T105719Z
LAST-MODIFIED:20240524T093742Z
UID:821-1716573600-1716577200@tribulossi.cat
SUMMARY:Memòries Líquides. Veus de les bugaderes.
DESCRIPTION:Un espectacle cultural amb l’aigua\, la bugada\, els safareigs i les bugaderes com a protagonistes. Silenciades pel vent de l’oblit\, les seves vivències prenen la paraula a través de lectures en veu alta\, les cançons i la participació directa del públic. Obert a tothom.
URL:https://tribulossi.cat/activitat/memories-liquides-veus-de-les-bugaderes/
LOCATION:Sala de Plens\, Pl. de la Creu\, 1\, Tremp\, Espanya
CATEGORIES:Edició 2024
ATTACH;FMTTYPE=image/jpeg:https://tribulossi.cat/wp-content/uploads/2024/04/safareig-memories.jpeg
END:VEVENT
BEGIN:VEVENT
DTSTART;TZID=Europe/Madrid:20240524T200000
DTEND;TZID=Europe/Madrid:20240524T200000
DTSTAMP:20260419T194922
CREATED:20240425T110051Z
LAST-MODIFIED:20240524T093659Z
UID:825-1716580800-1716580800@tribulossi.cat
SUMMARY:Concert amb Flamengrass
DESCRIPTION:Fusió de flamenc\, bluegrass i músiques d’arrel a partir de poemes de Lorca i altres. Un banjo\, un violi i una guitarra per crear un clima màgic i festiu a la vegada.
URL:https://tribulossi.cat/activitat/concert-amb-flamengrass/
LOCATION:Antigualla Classic Bar\, Pg. Pompeu Fabra\, Tremp\, 25620\, Espanya
CATEGORIES:Edició 2024
ATTACH;FMTTYPE=image/jpeg:https://tribulossi.cat/wp-content/uploads/2024/04/flamengrass.jpeg
END:VEVENT
END:VCALENDAR