BEGIN:VCALENDAR
VERSION:2.0
PRODID:-//Festival Tribulossi - ECPv6.10.1.1//NONSGML v1.0//EN
CALSCALE:GREGORIAN
METHOD:PUBLISH
X-ORIGINAL-URL:https://tribulossi.cat
X-WR-CALDESC:Esdeveniments per Festival Tribulossi
REFRESH-INTERVAL;VALUE=DURATION:PT1H
X-Robots-Tag:noindex
X-PUBLISHED-TTL:PT1H
BEGIN:VTIMEZONE
TZID:Europe/Madrid
BEGIN:DAYLIGHT
TZOFFSETFROM:+0100
TZOFFSETTO:+0200
TZNAME:CEST
DTSTART:20240331T010000
END:DAYLIGHT
BEGIN:STANDARD
TZOFFSETFROM:+0200
TZOFFSETTO:+0100
TZNAME:CET
DTSTART:20241027T010000
END:STANDARD
END:VTIMEZONE
BEGIN:VEVENT
DTSTART;TZID=Europe/Madrid:20240526T120000
DTEND;TZID=Europe/Madrid:20240526T133000
DTSTAMP:20260419T194922
CREATED:20240425T111051Z
LAST-MODIFIED:20240425T111441Z
UID:836-1716724800-1716730200@tribulossi.cat
SUMMARY:Poesia\, música i vermut
DESCRIPTION:Concert\, recital de poemes i vermut amb el conjunt Rumbesia que presenta Del Negre al Blanc a partir de poemes d’autors catalans com Apel·les Mestres\, Clementina Arderiu… Degustació de productes Al teu Gust\, aliments del Pallars. Lloc: Plaça del Forn.
URL:https://tribulossi.cat/activitat/poesia-musica-i-vermut/
LOCATION:plaça del Forn\, Plaça del Forn\, Tremp\, Lleida\, 25620\, Espanya
CATEGORIES:Edició 2024
ATTACH;FMTTYPE=image/jpeg:https://tribulossi.cat/wp-content/uploads/2024/04/rumbesiadef.jpg
END:VEVENT
END:VCALENDAR