BEGIN:VCALENDAR
VERSION:2.0
PRODID:-//Festival Tribulossi - ECPv6.10.1.1//NONSGML v1.0//EN
CALSCALE:GREGORIAN
METHOD:PUBLISH
X-ORIGINAL-URL:https://tribulossi.cat
X-WR-CALDESC:Esdeveniments per Festival Tribulossi
REFRESH-INTERVAL;VALUE=DURATION:PT1H
X-Robots-Tag:noindex
X-PUBLISHED-TTL:PT1H
BEGIN:VTIMEZONE
TZID:Europe/Madrid
BEGIN:DAYLIGHT
TZOFFSETFROM:+0100
TZOFFSETTO:+0200
TZNAME:CEST
DTSTART:20240331T010000
END:DAYLIGHT
BEGIN:STANDARD
TZOFFSETFROM:+0200
TZOFFSETTO:+0100
TZNAME:CET
DTSTART:20241027T010000
END:STANDARD
BEGIN:DAYLIGHT
TZOFFSETFROM:+0100
TZOFFSETTO:+0200
TZNAME:CEST
DTSTART:20250330T010000
END:DAYLIGHT
BEGIN:STANDARD
TZOFFSETFROM:+0200
TZOFFSETTO:+0100
TZNAME:CET
DTSTART:20251026T010000
END:STANDARD
BEGIN:DAYLIGHT
TZOFFSETFROM:+0100
TZOFFSETTO:+0200
TZNAME:CEST
DTSTART:20260329T010000
END:DAYLIGHT
BEGIN:STANDARD
TZOFFSETFROM:+0200
TZOFFSETTO:+0100
TZNAME:CET
DTSTART:20261025T010000
END:STANDARD
END:VTIMEZONE
BEGIN:VEVENT
DTSTART;TZID=Europe/Madrid:20240524T180000
DTEND;TZID=Europe/Madrid:20240524T190000
DTSTAMP:20260420T072031
CREATED:20240425T105719Z
LAST-MODIFIED:20240524T093742Z
UID:821-1716573600-1716577200@tribulossi.cat
SUMMARY:Memòries Líquides. Veus de les bugaderes.
DESCRIPTION:Un espectacle cultural amb l’aigua\, la bugada\, els safareigs i les bugaderes com a protagonistes. Silenciades pel vent de l’oblit\, les seves vivències prenen la paraula a través de lectures en veu alta\, les cançons i la participació directa del públic. Obert a tothom.
URL:https://tribulossi.cat/activitat/memories-liquides-veus-de-les-bugaderes/
LOCATION:Sala de Plens\, Pl. de la Creu\, 1\, Tremp\, Espanya
CATEGORIES:Edició 2024
ATTACH;FMTTYPE=image/jpeg:https://tribulossi.cat/wp-content/uploads/2024/04/safareig-memories.jpeg
END:VEVENT
BEGIN:VEVENT
DTSTART;TZID=Europe/Madrid:20240524T200000
DTEND;TZID=Europe/Madrid:20240524T200000
DTSTAMP:20260420T072031
CREATED:20240425T110051Z
LAST-MODIFIED:20240524T093659Z
UID:825-1716580800-1716580800@tribulossi.cat
SUMMARY:Concert amb Flamengrass
DESCRIPTION:Fusió de flamenc\, bluegrass i músiques d’arrel a partir de poemes de Lorca i altres. Un banjo\, un violi i una guitarra per crear un clima màgic i festiu a la vegada.
URL:https://tribulossi.cat/activitat/concert-amb-flamengrass/
LOCATION:Antigualla Classic Bar\, Pg. Pompeu Fabra\, Tremp\, 25620\, Espanya
CATEGORIES:Edició 2024
ATTACH;FMTTYPE=image/jpeg:https://tribulossi.cat/wp-content/uploads/2024/04/flamengrass.jpeg
END:VEVENT
BEGIN:VEVENT
DTSTART;TZID=Europe/Madrid:20240525T120000
DTEND;TZID=Europe/Madrid:20240525T123000
DTSTAMP:20260420T072031
CREATED:20240425T110439Z
LAST-MODIFIED:20240524T093807Z
UID:831-1716638400-1716640200@tribulossi.cat
SUMMARY:Art urbà: inauguració del mural artístic de Peter Allan Hull
DESCRIPTION:Presentació del mural artístic creat per Peter Alan Hull a partir del poema Dones Fosques del poeta Xavier Macià. Amb la presència de l’autor del mural i la lectura del poema per part de Macià. Al safareig de Tremp.
URL:https://tribulossi.cat/activitat/art-urba-inauguracio-del-mural-artistic-de-peter-alla-hull/
LOCATION:Plaça Capdevila\, Plaça Capdevila\, Tremp\, Lleida\, 25620\, Espanya
CATEGORIES:Edició 2024
ATTACH;FMTTYPE=image/webp:https://tribulossi.cat/wp-content/uploads/2024/04/PETERALLAN.webp
END:VEVENT
BEGIN:VEVENT
DTSTART;TZID=Europe/Madrid:20240525T123000
DTEND;TZID=Europe/Madrid:20240525T140000
DTSTAMP:20260420T072031
CREATED:20240322T131652Z
LAST-MODIFIED:20240516T110022Z
UID:801-1716640200-1716645600@tribulossi.cat
SUMMARY:Espectacle de circ poètic NüShu de la companyia Capicua
DESCRIPTION:Una fàbrica antiga de texans\, una màquina de cosir\, una escala\, roba texana\, un pal\, bobines de fil\, una corda i cinc dones…. Acròbates que cusen\, ballen\, riuen i s'enfilen. NüShu és un llenguatge a través del cos\, del silenci\, del caos\, un llenguatge entre mares\, àvies\, filles i companyes.\n\nUn espectacle sensible\, humà i divertit.
URL:https://tribulossi.cat/activitat/espectacle-de-circ-poetic-nushu-de-la-companyia-capicua/
LOCATION:Plaça Capdevila\, Plaça Capdevila\, Tremp\, Lleida\, 25620\, Espanya
CATEGORIES:Edició 2024
ATTACH;FMTTYPE=image/jpeg:https://tribulossi.cat/wp-content/uploads/2024/03/nushu.jpg
END:VEVENT
BEGIN:VEVENT
DTSTART;TZID=Europe/Madrid:20240525T190000
DTEND;TZID=Europe/Madrid:20240525T210000
DTSTAMP:20260420T072031
CREATED:20240322T130828Z
LAST-MODIFIED:20240515T074406Z
UID:791-1716663600-1716670800@tribulossi.cat
SUMMARY:Homenatge a Benet Rossell
DESCRIPTION:Acte d’homenatge al poeta i artista Benet Rossell amb lectura de poemes\, col·loqui sobre la seva vida i obra i presentació del recull de poemes i il·lustracions inèdites de l’autor. L’acte comptarà amb la presència de: \n\nCristina Giorgi\, vídua de Benet Rossell i administradora del seu llegat\nAntoni Pinet\, cineasta\nAntoni Llevot\, artista plàstic\nFerran Aixalà\, actor i músic\nJosep Pedrals\, poeta\nCarles Maria Sanuy\, poeta\nJosep Rossell\, director artístic de cinema\nMarta Farré\, llibretera
URL:https://tribulossi.cat/activitat/homenatge-a-benet-rossell/
LOCATION:Espai Cultural La Lira\, Rambla del Dr. Pearson\, 22\, Tremp\, Lleida\, 25620\, Espanya
CATEGORIES:Edició 2024
ATTACH;FMTTYPE=image/jpeg:https://tribulossi.cat/wp-content/uploads/2024/03/Benet_Rossell_def.jpg
ORGANIZER;CN="Ajuntament de Tremp":MAILTO:culturaifestes@tremp.cat
END:VEVENT
BEGIN:VEVENT
DTSTART;TZID=Europe/Madrid:20240526T120000
DTEND;TZID=Europe/Madrid:20240526T133000
DTSTAMP:20260420T072031
CREATED:20240425T111051Z
LAST-MODIFIED:20240425T111441Z
UID:836-1716724800-1716730200@tribulossi.cat
SUMMARY:Poesia\, música i vermut
DESCRIPTION:Concert\, recital de poemes i vermut amb el conjunt Rumbesia que presenta Del Negre al Blanc a partir de poemes d’autors catalans com Apel·les Mestres\, Clementina Arderiu… Degustació de productes Al teu Gust\, aliments del Pallars. Lloc: Plaça del Forn.
URL:https://tribulossi.cat/activitat/poesia-musica-i-vermut/
LOCATION:plaça del Forn\, Plaça del Forn\, Tremp\, Lleida\, 25620\, Espanya
CATEGORIES:Edició 2024
ATTACH;FMTTYPE=image/jpeg:https://tribulossi.cat/wp-content/uploads/2024/04/rumbesiadef.jpg
END:VEVENT
BEGIN:VEVENT
DTSTART;TZID=Europe/Madrid:20250523T200000
DTEND;TZID=Europe/Madrid:20250523T210000
DTSTAMP:20260420T072031
CREATED:20250226T160216Z
LAST-MODIFIED:20250516T072234Z
UID:1051-1748030400-1748034000@tribulossi.cat
SUMMARY:El Batec\, poesia i música
DESCRIPTION:Amb Josep Pedrals i Xavi Lloses. A les 20h a la Bodega de l’Hotel Segle XX. Entrada Gratuïta.
URL:https://tribulossi.cat/activitat/espectacle-absenta-amb-quimet-pla-i-nuria-solina/
LOCATION:Bodega de l’Hotel Segle XX\, Plaça de la Creu\, 8\, Tremp\, Lleida\, 25620\, Spain
CATEGORIES:Edició 2025
ATTACH;FMTTYPE=image/webp:https://tribulossi.cat/wp-content/uploads/2025/02/EL-BATEC-imatge-957x1280-jpg.webp
END:VEVENT
BEGIN:VEVENT
DTSTART;TZID=Europe/Madrid:20250524T120000
DTEND;TZID=Europe/Madrid:20250524T130000
DTSTAMP:20260420T072031
CREATED:20250507T044721Z
LAST-MODIFIED:20250507T052553Z
UID:1107-1748088000-1748091600@tribulossi.cat
SUMMARY:Presentació mural artístic
DESCRIPTION:Presentació del mural artístic creat per Pinto Coses a partir del poema Una vall\, un espai de Josep Pedrals (et passo foto). A les 12h\, a les Vivendes Sant Bonifaci (Carrer Aragó). Entrada gratuïta. \n 
URL:https://tribulossi.cat/activitat/presentacio-del-mural-artistic-creat-per-pinto-coses/
LOCATION:Vivendes Sant Bonifaci\, Carrer Aragó)\, Tremp\, Lleida\, 25620\, Spain
CATEGORIES:Edició 2025
ATTACH;FMTTYPE=image/jpeg:https://tribulossi.cat/wp-content/uploads/2025/05/IMG-20250424-WA0001.jpg
END:VEVENT
BEGIN:VEVENT
DTSTART;TZID=Europe/Madrid:20250524T130000
DTEND;TZID=Europe/Madrid:20250524T140000
DTSTAMP:20260420T072031
CREATED:20250226T160445Z
LAST-MODIFIED:20250507T052547Z
UID:1058-1748091600-1748095200@tribulossi.cat
SUMMARY:Espectacle de dansa aèria Fargar
DESCRIPTION:Espectacle de dansa aèria Fargar de la  De la companyia Berta Baliu\, amb la col·laboració de Malfargats de Pallars. A la Plaça de la Creu\, a les 13.15h. Entrada gratuïta. \n 
URL:https://tribulossi.cat/activitat/espectacle-de-dansa-aeria-fargar/
LOCATION:Plaça de la Creu\, Plaça de la Creu\, Tremp\, Lleida\, 25620\, Spain
CATEGORIES:Edició 2025
ATTACH;FMTTYPE=image/jpeg:https://tribulossi.cat/wp-content/uploads/2025/02/Fargar.jpg
END:VEVENT
BEGIN:VEVENT
DTSTART;TZID=Europe/Madrid:20250524T190000
DTEND;TZID=Europe/Madrid:20250524T210000
DTSTAMP:20260420T072031
CREATED:20250507T051628Z
LAST-MODIFIED:20250507T052542Z
UID:1113-1748113200-1748120400@tribulossi.cat
SUMMARY:Homenatge al poeta Francesc Ramon Monrós
DESCRIPTION:Homenatge al poeta Francesc Ramon Monrós amb música en directe\, poesia i tertúlia al voltant de la seva figura. En acabar venda del llibre poemari Volves de Francesc Monrós editat per Garsineu. A les 19h\, al Espai Cultural la Lira. Entrada gratuïta.
URL:https://tribulossi.cat/activitat/homenatge-al-poeta-francesc-ramon-monros/
LOCATION:Espai Cultural La Lira\, Rambla del Dr. Pearson\, 22\, Tremp\, Lleida\, 25620\, Espanya
CATEGORIES:Edició 2025
ATTACH;FMTTYPE=image/png:https://tribulossi.cat/wp-content/uploads/2025/05/portada-llibre.png
END:VEVENT
BEGIN:VEVENT
DTSTART;TZID=Europe/Madrid:20250525T120000
DTEND;TZID=Europe/Madrid:20250525T133000
DTSTAMP:20260420T072031
CREATED:20250507T052116Z
LAST-MODIFIED:20250507T052536Z
UID:1121-1748174400-1748179800@tribulossi.cat
SUMMARY:Concert vermut amb la Fireluche Orquestra
DESCRIPTION:Concert vermut amb la Fireluche Orquestra. A les 12h\, a les Vivendes Sant Bonifaci (Carrer Aragó). Entrada gratuïta.
URL:https://tribulossi.cat/activitat/concert-vermut-amb-la-fireluche-orquestra/
LOCATION:Vivendes Sant Bonifaci\, Carrer Aragó)\, Tremp\, Lleida\, 25620\, Spain
CATEGORIES:Edició 2025
ATTACH;FMTTYPE=image/jpeg:https://tribulossi.cat/wp-content/uploads/2025/05/Fireluchecrit.jpg
END:VEVENT
BEGIN:VEVENT
DTSTART;TZID=Europe/Madrid:20260320T183000
DTEND;TZID=Europe/Madrid:20260320T193000
DTSTAMP:20260420T072031
CREATED:20260317T105935Z
LAST-MODIFIED:20260317T105935Z
UID:1255-1774031400-1774035000@tribulossi.cat
SUMMARY:Dia Mundial de la Poesia
DESCRIPTION:Celebració del Dia Mundial de la Poesia amb el Consorci per a la Normalització Lingüística amb la lectura en diferents llengües del poema Foc d’Ocell de Blai Bonet. Seguidament espectacle de dansa De color de Rosa del grup ribagorçà Versos en Dansa. \nA la biblioteca pública Maria Barbal de Tremp.
URL:https://tribulossi.cat/activitat/dia-mundial-de-la-poesia/
LOCATION:Biblioteca Pública Maria Barbal\, Plaça de Catalunya\, 6\, Tremp\, Lleida\, 25620\, Spain
CATEGORIES:Edició 2026
ATTACH;FMTTYPE=image/png:https://tribulossi.cat/wp-content/uploads/2026/03/DIA-MUNDIAL-DE-LA-POESIA-2026.png
ORGANIZER;CN="Ajuntament de Tremp":MAILTO:culturaifestes@tremp.cat
END:VEVENT
BEGIN:VEVENT
DTSTART;TZID=Europe/Madrid:20260522T220000
DTEND;TZID=Europe/Madrid:20260522T230000
DTSTAMP:20260420T072031
CREATED:20260317T110746Z
LAST-MODIFIED:20260317T110823Z
UID:1260-1779487200-1779490800@tribulossi.cat
SUMMARY:Espectacle de dansa Imago
DESCRIPTION:Espectacle de dansa contemporània de la cia Contremporànies. \nSinopsi: \nIMAGO és la metamorfosi de la identitat feta dansa\, l’instant precís en què el silenci esdevé vol. Onze ballarines encarnen el cicle vital de la papallona\, un ésser efímer i poderós. \nUn viatge coreogràfic de fragilitat\, força\, desig i renaixement. L’espectacle utilitza el procés de transformació d’una papallona com a eix conductor\, on es mostren les diferents etapes del seu \ncicle vital: ou – larva – crisàlide – papallona. Es mostra el cicle vital de la papallona com a analogia al cicle vital de la dona i al seu propi procés de transformació i\, d’aquesta manera\, també es pretén establir un paral·lelisme entre la metamorfosi de l’insecte i el feminisme en general\, que també implica un canvi profund en les estructures personals\, socials i culturals. La història l’explica Maria Sibylla\, entomòloga dels segles XVII i XVIII\, que va estudiar\, descriure i dibuixar la metamorfosi de diferents insectes\, en especial les papallones. La Maria va ser silenciada durant molt de temps i\, amb IMAGO\, també volem recuperar la figura d’aquesta important dona científica i\, amb ella\, de tantes que\, com ella\, van ser també silenciades i invisibilitzades
URL:https://tribulossi.cat/activitat/espectacle-de-dansa-imago/
LOCATION:Espai Cultural La Lira\, Rambla del Dr. Pearson\, 22\, Tremp\, Lleida\, 25620\, Espanya
CATEGORIES:Edició 2026
ATTACH;FMTTYPE=image/png:https://tribulossi.cat/wp-content/uploads/2026/03/IMAGO.png
ORGANIZER;CN="Ajuntament de Tremp":MAILTO:culturaifestes@tremp.cat
END:VEVENT
BEGIN:VEVENT
DTSTART;TZID=Europe/Madrid:20260523T120000
DTEND;TZID=Europe/Madrid:20260523T140000
DTSTAMP:20260420T072031
CREATED:20260320T094936Z
LAST-MODIFIED:20260320T094936Z
UID:1271-1779537600-1779544800@tribulossi.cat
SUMMARY:Cercavila poètica amb LaDinamo que presenta "Music on Cycles"
DESCRIPTION:Gaudeix de la música i el bon rotllo de LaDinamo pels carrers de Tremp i sorprent-te amb les propostes poètiques que hi trobaràs.
URL:https://tribulossi.cat/activitat/cercavila-poetica-amb-ladinamo-que-presenta-music-on-cycles/
LOCATION:Pl. de la Creu\, Plaça de la Creu\, 1\, Tremp\, Lleida\, 25620\, Spain
CATEGORIES:Edició 2026
ATTACH;FMTTYPE=image/jpeg:https://tribulossi.cat/wp-content/uploads/2026/03/ladinamo.jpg
END:VEVENT
BEGIN:VEVENT
DTSTART;TZID=Europe/Madrid:20260523T190000
DTEND;TZID=Europe/Madrid:20260523T203000
DTSTAMP:20260420T072031
CREATED:20260320T095717Z
LAST-MODIFIED:20260320T095717Z
UID:1276-1779562800-1779568200@tribulossi.cat
SUMMARY:Homenatge al poeta Antoni Fortuny i Feliu
DESCRIPTION:Acte a l’Espai CulTural la Lira amb la família del poeta\, músics i diversos rapsodes. Presentació del recull de poemes editat per Garsineu Edicions “Volves d’Antoni Fortuny“. \nAntoni Fortuny i Feliu (Tremp\,1928-2008). Va cursar la carrera eclesiàstica al Seminari Diocesà d’Urgell. Obtingué la llicenciatura en Filosofia Pura per la Universitat Pontifícia de Salamanca\,  Pedagogia per la Universitat de Barcelona completant així un perfil que uneix pensament i acció: filosofia i docència\, idees i aula\, espiritualitat i realitat.  Més endavant\, consolidà encara més la seva vinculació amb la llengua i la identitat del país: es titulà com a Mestre de Català el 1982 per la UAB\, i es diplomà en Història de Catalunya\, ampliant la seva trajectòria cap al coneixement profund de la memòria col·lectiva. \nAl llarg dels anys\, la seva vida professional es desplegà en diverses poblacions\, on exercí l’ensenyament. Però la figura d’Antoni Fortuny no s’acaba a l’aula ni a l’exercici de tasques de gestió educativa. Un altre perfil destacable és el de l’escriptor i poeta. I és aquí on la seva vida pren una textura encara més rica\, com si tota aquella disciplina —la filosofia\, la pedagogia\, l’espiritualitat\, les llengües\, la història— hagués anat acumulant un sediment interior que necessitava convertir-se en paraula escrita. La seva obra poètica i narrativa mostra una arrel humanística i clàssica\, amb una veu capaç d’incorporar la sàtira social i una mirada crítica\, sovint càustica però sempre clara i propera. Entre els seus llibres i reculls\, cal esmentar Montseny Crismal (Finalista en el XII Premi Montseny)\, Pedra Gentil (Premi Vallgorgina)\, el recull Pallars de silencis\, premiat a Tírvia amb “La Girella Romancera”\, així com el poema patriòtic pallarès Magdalena de Moragues\, finalista als Jocs Florals de Barcelona (1992). També publicà Santa Maria d’Avui\, a l’Editorial Claret\, dins la col·lecció Els Daus. I el poema Castellers\, englantina als Jocs Florals de tardor. \nEn el terreny del reconeixement literari\, Fortuny obtingué també el Premi de poesia catalana Enric Ferran (1990)\, convocat per les revistes Ciervo i Foc Nou. En registre d’agermanament entre fe i cultura\, participà sovint en el certamen poètic de l’Acadèmia Mariana de Lleida\, on guanyà repetides vegades la Flor Natural i contribuí\, de manera clara\, a catalanitzar l’entitat. \nLa narrativa és un altre dels vessants sòlids de la seva trajectòria. Va guanyar el Premi de Narrativa de la Nit Literària Andorrana amb El bord de Cabestany\, i en prosa destacà també el llibre El Mestre Mag\, publicat a la col·lecció Lo Marraco de Pagès Editors\, obra que obtingué el Premi Literari Les Talúries (1991). També publicà el Vocabulari de la Conca de Tremp\, amb l’Assemblea Intercomarcal d’Estudiosos\, i una obra en col·laboració titulada Mètode per a l’avaluació de Centres Escolars. Tot plegat configura una producció marcada per la petjada del mestre: fins i tot quan escriu ficció\, hi respira el compromís amb l’observació humana\, la paraula precisa i la voluntat de formar criteri. \nCal afegir encara una faceta significativa: el seu paper com a coordinador del “Premi per a Joves Poetes Inèdits Amadeu Oller”\, certamen d’on han sortit noms destacats com Carles Torner o Anna Dodas. Aquest compromís amb la paraula jove evidencia que l’Antoni Fortuny no entén la cultura com un patrimoni tancat\, sinó com una responsabilitat: una flama que cal preservar i passar. \n 
URL:https://tribulossi.cat/activitat/homenatge-al-poeta-antoni-fortuny-i-feliu/
LOCATION:Espai Cultural La Lira\, Rambla del Dr. Pearson\, 22\, Tremp\, Lleida\, 25620\, Espanya
CATEGORIES:Edició 2026
ATTACH;FMTTYPE=image/png:https://tribulossi.cat/wp-content/uploads/2026/03/Antoni-Feliu.png
END:VEVENT
BEGIN:VEVENT
DTSTART;TZID=Europe/Madrid:20260524T120000
DTEND;TZID=Europe/Madrid:20260524T130000
DTSTAMP:20260420T072031
CREATED:20260320T092626Z
LAST-MODIFIED:20260320T100518Z
UID:1266-1779624000-1779627600@tribulossi.cat
SUMMARY:Espectacle-vermut de música i poesia "Poetes" del compositor i cantant Lluís Cartes
DESCRIPTION:Concert acompanyat de vins i productes locals amb Lluís Cartes i el seu conjunt. \nEl format del directe és a Trio format per Oriol Vilella\, Albert Freixas i el mateix Lluís Cartes\, que per fi\, posa a escena la rotació de músics que tant anhelava des de feia tant temps. Tots els components son multi-instrumentistes\, fet que fa que els arranjaments i la instrumentació sigui diferent en cada cançó del directe de POETES. \nEls arranjaments del directe són diferents als del disc\, cosa que també dona frescor a la temàtica particular de cada text. La rotació dels tres músics dalt de l’escenari fa que el directe canviï constantment de sonoritat durant tota l’actuació contrarestant així amb la densitat que alguns dels textos de POETES poden tenir. \nUn directe senzill però efectista. Uns textos triats que abasten temes universals de moltes èpoques diferents\, des del segle XVI fins avui en dia\, però encara vigents i amb algunes versions d’artistes que han marcat a Lluís Cartes al llarg de la seva vida. \nProposem per a aquest espectacle la incorporació escènica d’un element més que combina perfectament amb l’univers poètic que Lluís Cartes ens proposa a POETES. Comptem amb la col·laboració de Daniel Arellano a les projeccions gràfiques que ens ajuden a submergir-nos en l’univers poètic de la paraula\, la mètrica i les diferents tipografies gràfiques\, mantenint la mateixa neutralitat cromàtica que el disc. \nAmb aquests elements i un disseny de llums senzill\, acurat\, elegant i sense pretensions\, es proposa un espectacle diferent al que estem habituats. \nUna hora durant la qual no deixen mai de passar coses. Una immersió als diferents universos literaris\, musicals i gràfics que proposem. \n  \n 
URL:https://tribulossi.cat/activitat/espectacle-vermut-de-musica-i-poesia-poetes-del-compositor-i-cantant-lluis-cartes/
LOCATION:Pl. de Domènec Cardenyes\, Pl. Domènec Cardenyes\, Tremp\, Lleida\, 25620\, Spain
CATEGORIES:Edició 2026
ATTACH;FMTTYPE=image/jpeg:https://tribulossi.cat/wp-content/uploads/2026/03/poetes-cartes.jpg
END:VEVENT
BEGIN:VEVENT
DTSTART;TZID=Europe/Madrid:20260524T130000
DTEND;TZID=Europe/Madrid:20260524T133000
DTSTAMP:20260420T072031
CREATED:20260320T100422Z
LAST-MODIFIED:20260320T100422Z
UID:1280-1779627600-1779629400@tribulossi.cat
SUMMARY:Presentació del mural realitzat per Swen Schmitz Coll a partir del poema "Fenòmens"de Meritxell Nus
DESCRIPTION:L’artista muralista Swen Schmitz ha interpretat en una paret de la plaça de Domènec Cardenyes el poema Fenòmens de la poetessa Meritxell Nus Gallart. L’autora llegirà el poema davant mateix del mural.
URL:https://tribulossi.cat/activitat/presentacio-del-mural-realitzat-per-swen-schmitz-coll-a-partir-del-poema-fenomensde-meritxell-nus/
LOCATION:Pl. de Domènec Cardenyes\, Pl. Domènec Cardenyes\, Tremp\, Lleida\, 25620\, Spain
CATEGORIES:Edició 2026
ATTACH;FMTTYPE=image/jpeg:https://tribulossi.cat/wp-content/uploads/2026/03/meritxell-nus.jpg
END:VEVENT
END:VCALENDAR